BEGIN:VCALENDAR
VERSION:2.0
PRODID:-//ddaysoftware.com//NONSGML DDay.iCal 1.0//EN
BEGIN:VTIMEZONE
TZID:W. Europe Standard Time
BEGIN:STANDARD
DTSTART:20251002T030000
RRULE:FREQ=YEARLY;BYDAY=-1SU;BYHOUR=3;BYMINUTE=0;BYMONTH=10
TZNAME:Mitteleuropäische Zeit
TZOFFSETFROM:+0200
TZOFFSETTO:+0100
END:STANDARD
BEGIN:DAYLIGHT
DTSTART:20250301T020000
RRULE:FREQ=YEARLY;BYDAY=-1SU;BYHOUR=2;BYMINUTE=0;BYMONTH=3
TZNAME:Mitteleuropäische Sommerzeit
TZOFFSETFROM:+0100
TZOFFSETTO:+0200
END:DAYLIGHT
END:VTIMEZONE
BEGIN:VEVENT
CATEGORIES:Veranstaltung im Landkreis Miltenberg
CATEGORIES:Gesundheit\, Selbsthilfe
CATEGORIES:Seminar\, Workshop\, Kurs
DESCRIPTION:Ältere Menschen haben oft spezielle Bedürfnisse in Notsituation
 en. Dieses kompakte Seminar vermittelt Praxiswissen\, damit Sie in Ihrem f
 reiwilligen Engagement mit mehr Sicherheit solche Situationen meistern kön
 nen. Teilnehmen können Ehrenamtliche\, die sich für Seniorinnen und Senior
 en engagieren oder die in Vereinen\, Initiativen oder Selbsthilfegruppen m
 it Seniorinnen und Senioren zusammenarbeiten.\n\nVeranstalter: Landratsamt
  Miltenberg\, Gesundheitsregionplus Miltenberg\, Johanniter-Unfall -Hilfe 
 e.V.\n\nhttps://gesundheitsregion-plus.landkreis-miltenberg.de/aktuelles/v
 eranstaltungen/erste-hilfe-bei-aelteren-menschen-ein-kurs-fuer-freiwillig-
 engagierte/
DTEND:20260516T103000
DTSTAMP:20260423T031901Z
DTSTART:20260516T093000
SEQUENCE:0
SUMMARY:Erste Hilfe bei älteren Menschen. Ein Kurs für freiwillig Engagiert
 e
UID:168317
URL:https://gesundheitsregion-plus.landkreis-miltenberg.de/aktuelles/verans
 taltungen/erste-hilfe-bei-aelteren-menschen-ein-kurs-fuer-freiwillig-engag
 ierte/
END:VEVENT
END:VCALENDAR
